BEGIN:VCALENDAR
VERSION:2.0
PRODID:-//ChamberMaster//Event Calendar 2.0//EN
METHOD:PUBLISH
X-PUBLISHED-TTL:P3D
REFRESH-INTERVAL:P3D
CALSCALE:GREGORIAN
BEGIN:VEVENT
DTSTART:20260423T160000Z
DTEND:20260423T190000Z
X-MICROSOFT-CDO-ALLDAYEVENT:FALSE
SUMMARY:MidSouth Bank Customer Appreciation Day
DESCRIPTION:Customer Appreciation Pirate Party! Join us for live music\, treasure hunts\, children's savings activities\, prizes\, and lunch donated by Omni Broadcasting and Lenny's Subs! Special guest appearance by members of the Billy Bowlegs Krewe!
X-ALT-DESC;FMTTYPE=text/html:Customer Appreciation Pirate Party! Join us for live music\, treasure hunts\, children&#39\;s savings activities\, prizes\, and lunch donated by Omni Broadcasting and Lenny&#39\;s Subs! Special guest appearance by members of the Billy Bowlegs Krewe!
LOCATION:768 Beal Pkwy NW Fort Walton Beach\, FL 32547
UID:e.3173.24475
SEQUENCE:3
DTSTAMP:20260421T085243Z
URL:https://www.fwbchamber.org/events/details/midsouth-bank-customer-appreciation-day-24475
END:VEVENT

END:VCALENDAR
