BEGIN:VCALENDAR
VERSION:2.0
PRODID:-//ChamberMaster//Event Calendar 2.0//EN
METHOD:PUBLISH
X-PUBLISHED-TTL:P3D
REFRESH-INTERVAL:P3D
CALSCALE:GREGORIAN
BEGIN:VEVENT
DTSTART:20260514T223000Z
DTEND:20260515T000000Z
X-MICROSOFT-CDO-ALLDAYEVENT:FALSE
SUMMARY:Multicultural Business Committee-SPECIAL LOCATION: Kalai's Hawaiian Kitchen!
DESCRIPTION:2026 Mission Statement:\n\nThe Multicultural Business Committee provides an opportunity for our multicultural Chamber members\, plus those Chamber members interested in our multicultural business community\, to connect with each other and learn new skills in order to grow and better serve their clients.\n \n\n2026 Vision Statement:\n\nOur goal is to connect those Chamber members in our growing multicultural business community to help them make a bigger impact through both personal and professional growth
X-ALT-DESC;FMTTYPE=text/html:<p dir="ltr" style="line-height:1.38\;margin-top:0pt\;margin-bottom:0pt\;"><span id="docs-internal-guid-b9f990be-7fff-5806-fdf6-dc736d6450ad"><span style="font-size: 10pt\; font-family: Calibri\, sans-serif\; background-color: transparent\; font-weight: 700\; font-variant-numeric: normal\; font-variant-east-asian: normal\; font-variant-alternates: normal\; font-variant-position: normal\; font-variant-emoji: normal\; vertical-align: baseline\; white-space-collapse: preserve\;">2026 Mission Statement:</span></span></p>\n\n<p dir="ltr" style="line-height:1.38\;margin-top:0pt\;margin-bottom:0pt\;"><span id="docs-internal-guid-b9f990be-7fff-5806-fdf6-dc736d6450ad"><span style="font-size: 10pt\; font-family: Calibri\, sans-serif\; background-color: transparent\; font-variant-numeric: normal\; font-variant-east-asian: normal\; font-variant-alternates: normal\; font-variant-position: normal\; font-variant-emoji: normal\; vertical-align: baseline\; white-space-collapse: preserve\;">The Multicultural Business Committee provides an opportunity for our multicultural Chamber members\, plus those Chamber members interested in our multicultural business community\, to connect with each other and learn new skills in order to grow and better serve their clients.</span></span></p>\n&nbsp\;\n\n<p dir="ltr" style="line-height:1.38\;margin-top:0pt\;margin-bottom:0pt\;"><span id="docs-internal-guid-b9f990be-7fff-5806-fdf6-dc736d6450ad"><span style="font-size: 10pt\; font-family: Calibri\, sans-serif\; background-color: transparent\; font-weight: 700\; font-variant-numeric: normal\; font-variant-east-asian: normal\; font-variant-alternates: normal\; font-variant-position: normal\; font-variant-emoji: normal\; vertical-align: baseline\; white-space-collapse: preserve\;">2026 Vision Statement:</span></span></p>\n\n<p dir="ltr" style="line-height:1.38\;margin-top:0pt\;margin-bottom:0pt\;"><span id="docs-internal-guid-b9f990be-7fff-5806-fdf6-dc736d6450ad"><span style="font-size: 10pt\; font-family: Calibri\, sans-serif\; background-color: transparent\; font-variant-numeric: normal\; font-variant-east-asian: normal\; font-variant-alternates: normal\; font-variant-position: normal\; font-variant-emoji: normal\; vertical-align: baseline\; white-space-collapse: preserve\;">Our goal is to connect those Chamber members in our growing multicultural business community to help them make a bigger impact through both personal and professional growth</span></span></p>\n
LOCATION:SPECIAL LOCATION FOR MAY ONLY! Kalai's Hawaiian Kitchen\, 2200 Hwy 98\, Mary Esther https://www.fwbchamber.org/list/member/kalai-s-hawaiian-kitchen-11242
UID:e.3173.23097
SEQUENCE:3
DTSTAMP:20260424T013554Z
URL:https://www.fwbchamber.org/events/details/multicultural-business-committee-special-location-kalai-s-hawaiian-kitchen-23097
END:VEVENT

END:VCALENDAR
